BEGIN:VCALENDAR
VERSION:2.0
PRODID:-//MagnifiScience - ECPv6.15.20//NONSGML v1.0//EN
CALSCALE:GREGORIAN
METHOD:PUBLISH
X-ORIGINAL-URL:https://www.magnifiscience.org
X-WR-CALDESC:Events for MagnifiScience
REFRESH-INTERVAL;VALUE=DURATION:PT1H
X-Robots-Tag:noindex
X-PUBLISHED-TTL:PT1H
BEGIN:VTIMEZONE
TZID:Asia/Karachi
BEGIN:STANDARD
TZOFFSETFROM:+0500
TZOFFSETTO:+0500
TZNAME:PKT
DTSTART:20220101T000000
END:STANDARD
END:VTIMEZONE
BEGIN:VEVENT
DTSTART;TZID=Asia/Karachi:20230708T133000
DTEND;TZID=Asia/Karachi:20230708T140000
DTSTAMP:20260420T073623
CREATED:20230626T050439Z
LAST-MODIFIED:20230704T050901Z
UID:6052-1688823000-1688824800@www.magnifiscience.org
SUMMARY:Table Experiment: Balloon in a bottle
DESCRIPTION:Learn the science of Air Pressure using plastic bottle and balloon. How you can inflate a balloon inside the bottle.\nLocation: Ground Floor
URL:https://www.magnifiscience.org/event/leakproof-bag/
LOCATION:TDF’s MagnifiScience Centre\, Address: Plot no 1 RY – 15 Railway Quarter\, Karachi.\, 75530\, Pakistan
END:VEVENT
BEGIN:VEVENT
DTSTART;TZID=Asia/Karachi:20230708T140000
DTEND;TZID=Asia/Karachi:20230708T143000
DTSTAMP:20260420T073623
CREATED:20230626T050728Z
LAST-MODIFIED:20230704T051026Z
UID:6055-1688824800-1688826600@www.magnifiscience.org
SUMMARY:Table Experiment: Cloud Burst
DESCRIPTION:Learn the weather and water cycle by using plastic bottles. Find out how to control the clouds with this classis experiment. \nLocation: 1st Floor
URL:https://www.magnifiscience.org/event/density-check/
LOCATION:TDF’s MagnifiScience Centre\, Address: Plot no 1 RY – 15 Railway Quarter\, Karachi.\, 75530\, Pakistan
END:VEVENT
BEGIN:VEVENT
DTSTART;TZID=Asia/Karachi:20230708T143000
DTEND;TZID=Asia/Karachi:20230708T150000
DTSTAMP:20260420T073623
CREATED:20230626T051033Z
LAST-MODIFIED:20230704T124549Z
UID:6057-1688826600-1688828400@www.magnifiscience.org
SUMMARY:STEM Workshop "Recycling Magic"
DESCRIPTION:Engage in a variety of activities using recycled materials.\nLocation: Jugaar Ghar
URL:https://www.magnifiscience.org/event/science-show-recycling-magic/
LOCATION:TDF’s MagnifiScience Centre\, Address: Plot no 1 RY – 15 Railway Quarter\, Karachi.\, 75530\, Pakistan
END:VEVENT
BEGIN:VEVENT
DTSTART;TZID=Asia/Karachi:20230708T151500
DTEND;TZID=Asia/Karachi:20230708T154500
DTSTAMP:20260420T073623
CREATED:20230627T053501Z
LAST-MODIFIED:20230627T113949Z
UID:6188-1688829300-1688831100@www.magnifiscience.org
SUMMARY:Workshop Recycled Bird Feeders
DESCRIPTION:In this workshop we will engage the audience to make bird feeders from recycled material.\nLocation: Jugaar Ghar
URL:https://www.magnifiscience.org/event/workshop-recycled-bird-feeders-3/
LOCATION:TDF’s MagnifiScience Centre\, Address: Plot no 1 RY – 15 Railway Quarter\, Karachi.\, 75530\, Pakistan
END:VEVENT
BEGIN:VEVENT
DTSTART;TZID=Asia/Karachi:20230708T160000
DTEND;TZID=Asia/Karachi:20230708T163000
DTSTAMP:20260420T073623
CREATED:20230626T051541Z
LAST-MODIFIED:20230704T124650Z
UID:6061-1688832000-1688833800@www.magnifiscience.org
SUMMARY:STEM Workshop "Recycling Magic"
DESCRIPTION:Engage in a variety of activities using recycled materials.\nLocation: Jugaar Ghar
URL:https://www.magnifiscience.org/event/science-show-recycling-magic-2/
LOCATION:TDF’s MagnifiScience Centre\, Address: Plot no 1 RY – 15 Railway Quarter\, Karachi.\, 75530\, Pakistan
END:VEVENT
BEGIN:VEVENT
DTSTART;TZID=Asia/Karachi:20230708T163000
DTEND;TZID=Asia/Karachi:20230708T170000
DTSTAMP:20260420T073623
CREATED:20230627T130948Z
LAST-MODIFIED:20230627T130948Z
UID:6208-1688833800-1688835600@www.magnifiscience.org
SUMMARY:Layering Jello
DESCRIPTION:Learn about making Jello\, layering different colors and food safe plastics.\nLocation: Foodology
URL:https://www.magnifiscience.org/event/layering-jello-2/
LOCATION:TDF’s MagnifiScience Centre\, Address: Plot no 1 RY – 15 Railway Quarter\, Karachi.\, 75530\, Pakistan
END:VEVENT
BEGIN:VEVENT
DTSTART;TZID=Asia/Karachi:20230708T173000
DTEND;TZID=Asia/Karachi:20230708T180000
DTSTAMP:20260420T073623
CREATED:20230627T131139Z
LAST-MODIFIED:20230704T051216Z
UID:6210-1688837400-1688839200@www.magnifiscience.org
SUMMARY:Table Experiment: Balloon in a bottle
DESCRIPTION:Learn the science of Air Pressure using plastic bottle and balloon. How you can inflate a balloon inside the bottle.\nLocation: Ground Floor
URL:https://www.magnifiscience.org/event/balloon-in-a-bottle/
LOCATION:TDF’s MagnifiScience Centre\, Address: Plot no 1 RY – 15 Railway Quarter\, Karachi.\, 75530\, Pakistan
END:VEVENT
BEGIN:VEVENT
DTSTART;TZID=Asia/Karachi:20230708T180000
DTEND;TZID=Asia/Karachi:20230708T183000
DTSTAMP:20260420T073623
CREATED:20230627T131821Z
LAST-MODIFIED:20230704T051258Z
UID:6212-1688839200-1688841000@www.magnifiscience.org
SUMMARY:Table Experiment: Cloud Burst
DESCRIPTION:Learn the weather and water cycle by using plastic bottles. Find out how to control the clouds with this classis experiment.\nLocation:  1st Floor
URL:https://www.magnifiscience.org/event/cloud-burst-12/
LOCATION:TDF’s MagnifiScience Centre\, Address: Plot no 1 RY – 15 Railway Quarter\, Karachi.\, 75530\, Pakistan
END:VEVENT
END:VCALENDAR