BEGIN:VCALENDAR
VERSION:2.0
PRODID:-//MagnifiScience - ECPv6.15.20//NONSGML v1.0//EN
CALSCALE:GREGORIAN
METHOD:PUBLISH
X-WR-CALNAME:MagnifiScience
X-ORIGINAL-URL:https://www.magnifiscience.org
X-WR-CALDESC:Events for MagnifiScience
REFRESH-INTERVAL;VALUE=DURATION:PT1H
X-Robots-Tag:noindex
X-PUBLISHED-TTL:PT1H
BEGIN:VTIMEZONE
TZID:Asia/Karachi
BEGIN:STANDARD
TZOFFSETFROM:+0500
TZOFFSETTO:+0500
TZNAME:PKT
DTSTART:20220101T000000
END:STANDARD
END:VTIMEZONE
BEGIN:VEVENT
DTSTART;TZID=Asia/Karachi:20230716T133000
DTEND;TZID=Asia/Karachi:20230716T140000
DTSTAMP:20260420T133805
CREATED:20230626T062508Z
LAST-MODIFIED:20230707T044140Z
UID:6101-1689514200-1689516000@www.magnifiscience.org
SUMMARY:Cartesian Diver
DESCRIPTION:Learn a new use for some recyclables at your home. Make your own Cartesian diver and experiment with density.\nLocation: 1st Floor
URL:https://www.magnifiscience.org/event/cartesian-diver-2/
LOCATION:TDF’s MagnifiScience Centre\, Address: Plot no 1 RY – 15 Railway Quarter\, Karachi.\, 75530\, Pakistan
END:VEVENT
BEGIN:VEVENT
DTSTART;TZID=Asia/Karachi:20230716T140000
DTEND;TZID=Asia/Karachi:20230716T143000
DTSTAMP:20260420T133805
CREATED:20230626T062652Z
LAST-MODIFIED:20230626T062652Z
UID:6104-1689516000-1689517800@www.magnifiscience.org
SUMMARY:Cloud Burst
DESCRIPTION:Learn the weather and water cycle by using plastic bottles. Find out how to control the clouds with this classis experiment.\nLocation: 2nd Floor
URL:https://www.magnifiscience.org/event/cloud-burst-5/
LOCATION:TDF’s MagnifiScience Centre\, Address: Plot no 1 RY – 15 Railway Quarter\, Karachi.\, 75530\, Pakistan
END:VEVENT
BEGIN:VEVENT
DTSTART;TZID=Asia/Karachi:20230716T143000
DTEND;TZID=Asia/Karachi:20230716T150000
DTSTAMP:20260420T133805
CREATED:20230626T062845Z
LAST-MODIFIED:20230710T131739Z
UID:6106-1689517800-1689519600@www.magnifiscience.org
SUMMARY:STEM Workshop "Recycling Magic"
DESCRIPTION:In this workshop we will be creating Art using recycled plastic.\nLocation: Jugaar Ghar
URL:https://www.magnifiscience.org/event/stem-workshop-plastic-art-2/
LOCATION:TDF’s MagnifiScience Centre\, Address: Plot no 1 RY – 15 Railway Quarter\, Karachi.\, 75530\, Pakistan
END:VEVENT
BEGIN:VEVENT
DTSTART;TZID=Asia/Karachi:20230716T151500
DTEND;TZID=Asia/Karachi:20230716T154500
DTSTAMP:20260420T133805
CREATED:20230627T054826Z
LAST-MODIFIED:20230627T114405Z
UID:6194-1689520500-1689522300@www.magnifiscience.org
SUMMARY:Bee Motel
DESCRIPTION:Give bees a home from upcycling plastics.\nLocation: Jugaar Ghar
URL:https://www.magnifiscience.org/event/bee-motel-6/
LOCATION:TDF’s MagnifiScience Centre\, Address: Plot no 1 RY – 15 Railway Quarter\, Karachi.\, 75530\, Pakistan
END:VEVENT
BEGIN:VEVENT
DTSTART;TZID=Asia/Karachi:20230716T160000
DTEND;TZID=Asia/Karachi:20230716T163000
DTSTAMP:20260420T133805
CREATED:20230626T063348Z
LAST-MODIFIED:20230706T061846Z
UID:6111-1689523200-1689525000@www.magnifiscience.org
SUMMARY:STEM Workshop "Polymers Fun"
DESCRIPTION:Experimenting with elasticity of polymers.\nLocation: Jugaar Ghar
URL:https://www.magnifiscience.org/event/science-show-polymers-fun-2/
LOCATION:TDF’s MagnifiScience Centre\, Address: Plot no 1 RY – 15 Railway Quarter\, Karachi.\, 75530\, Pakistan
END:VEVENT
BEGIN:VEVENT
DTSTART;TZID=Asia/Karachi:20230716T163000
DTEND;TZID=Asia/Karachi:20230716T170000
DTSTAMP:20260420T133805
CREATED:20230626T063119Z
LAST-MODIFIED:20230703T055109Z
UID:6108-1689525000-1689526800@www.magnifiscience.org
SUMMARY:Layering Jello
DESCRIPTION:Learn about making Jello\, layering different colors and food safe plastics\nLocation: Foodology
URL:https://www.magnifiscience.org/event/workshop-recycled-birdfeeders/
LOCATION:TDF’s MagnifiScience Centre\, Address: Plot no 1 RY – 15 Railway Quarter\, Karachi.\, 75530\, Pakistan
END:VEVENT
BEGIN:VEVENT
DTSTART;TZID=Asia/Karachi:20230716T173000
DTEND;TZID=Asia/Karachi:20230716T180000
DTSTAMP:20260420T133805
CREATED:20230626T064152Z
LAST-MODIFIED:20230707T044247Z
UID:6115-1689528600-1689530400@www.magnifiscience.org
SUMMARY:Cartesian Diver
DESCRIPTION:Learn a new use for some recyclables at your home. Make your own Cartesian diver and experiment with density.\nLocation: 1st Floor
URL:https://www.magnifiscience.org/event/cartesian-diver-3/
LOCATION:TDF’s MagnifiScience Centre\, Address: Plot no 1 RY – 15 Railway Quarter\, Karachi.\, 75530\, Pakistan
END:VEVENT
BEGIN:VEVENT
DTSTART;TZID=Asia/Karachi:20230716T180000
DTEND;TZID=Asia/Karachi:20230716T183000
DTSTAMP:20260420T133805
CREATED:20230626T064421Z
LAST-MODIFIED:20230626T064421Z
UID:6117-1689530400-1689532200@www.magnifiscience.org
SUMMARY:Cloud Burst
DESCRIPTION:Learn the weather and water cycle by using plastic bottles. Find out how to control the clouds with this classis experiment.\nLocation: 2nd Floor
URL:https://www.magnifiscience.org/event/cloud-burst-6/
LOCATION:TDF’s MagnifiScience Centre\, Address: Plot no 1 RY – 15 Railway Quarter\, Karachi.\, 75530\, Pakistan
END:VEVENT
END:VCALENDAR