BEGIN:VCALENDAR
VERSION:2.0
PRODID:-//MagnifiScience - ECPv6.15.20//NONSGML v1.0//EN
CALSCALE:GREGORIAN
METHOD:PUBLISH
X-ORIGINAL-URL:https://www.magnifiscience.org
X-WR-CALDESC:Events for MagnifiScience
REFRESH-INTERVAL;VALUE=DURATION:PT1H
X-Robots-Tag:noindex
X-PUBLISHED-TTL:PT1H
BEGIN:VTIMEZONE
TZID:Asia/Karachi
BEGIN:STANDARD
TZOFFSETFROM:+0500
TZOFFSETTO:+0500
TZNAME:PKT
DTSTART:20220101T000000
END:STANDARD
END:VTIMEZONE
BEGIN:VEVENT
DTSTART;TZID=Asia/Karachi:20230722T133000
DTEND;TZID=Asia/Karachi:20230722T140000
DTSTAMP:20260420T180359
CREATED:20230626T064951Z
LAST-MODIFIED:20230626T064951Z
UID:6119-1690032600-1690034400@www.magnifiscience.org
SUMMARY:Leakproof Bag
DESCRIPTION:Can you poke a hole in a bag full of water without losing even one drop? Learn the science behind this leakproof bag experiment.\nLocation: 2nd Floor
URL:https://www.magnifiscience.org/event/leakproof-bag-5/
LOCATION:TDF’s MagnifiScience Centre\, Address: Plot no 1 RY – 15 Railway Quarter\, Karachi.\, 75530\, Pakistan
END:VEVENT
BEGIN:VEVENT
DTSTART;TZID=Asia/Karachi:20230722T140000
DTEND;TZID=Asia/Karachi:20230722T143000
DTSTAMP:20260420T180359
CREATED:20230626T065145Z
LAST-MODIFIED:20230626T065145Z
UID:6121-1690034400-1690036200@www.magnifiscience.org
SUMMARY:Density Check
DESCRIPTION:To demonstrate the varying densities of different plastic materials and learn the importance of recycling.\nLocation: Ground Floor
URL:https://www.magnifiscience.org/event/density-check-4/
LOCATION:TDF’s MagnifiScience Centre\, Address: Plot no 1 RY – 15 Railway Quarter\, Karachi.\, 75530\, Pakistan
END:VEVENT
BEGIN:VEVENT
DTSTART;TZID=Asia/Karachi:20230722T143000
DTEND;TZID=Asia/Karachi:20230722T150000
DTSTAMP:20260420T180359
CREATED:20230626T065337Z
LAST-MODIFIED:20230707T044419Z
UID:6124-1690036200-1690038000@www.magnifiscience.org
SUMMARY:STEM Workshop "Magic with Plastic"
DESCRIPTION:Investigating different designs and objects made of plastic that affect the chemical reaction in things.\nlocation: Jugaar Ghar
URL:https://www.magnifiscience.org/event/science-show-magic-with-plastic/
LOCATION:TDF’s MagnifiScience Centre\, Address: Plot no 1 RY – 15 Railway Quarter\, Karachi.\, 75530\, Pakistan
END:VEVENT
BEGIN:VEVENT
DTSTART;TZID=Asia/Karachi:20230722T151500
DTEND;TZID=Asia/Karachi:20230722T154500
DTSTAMP:20260420T180359
CREATED:20230627T055154Z
LAST-MODIFIED:20230627T114528Z
UID:6196-1690038900-1690040700@www.magnifiscience.org
SUMMARY:Workshop Recycled Bird Feeders
DESCRIPTION:In this workshop we will engage the audience to make bird feeders from recycled material.\nLocation: Jugaar Ghar
URL:https://www.magnifiscience.org/event/workshop-recycled-bird-feeders-5/
LOCATION:TDF’s MagnifiScience Centre\, Address: Plot no 1 RY – 15 Railway Quarter\, Karachi.\, 75530\, Pakistan
END:VEVENT
BEGIN:VEVENT
DTSTART;TZID=Asia/Karachi:20230722T160000
DTEND;TZID=Asia/Karachi:20230722T163000
DTSTAMP:20260420T180359
CREATED:20230626T065731Z
LAST-MODIFIED:20230706T062458Z
UID:6128-1690041600-1690043400@www.magnifiscience.org
SUMMARY:STEM Workshop "Recycling Magic"
DESCRIPTION:In this programme\, we will engage in a variety of activities using recycled materials to explore reactions.\nLocation: Jugaar Ghar
URL:https://www.magnifiscience.org/event/science-show-recycling-magic-3/
LOCATION:TDF’s MagnifiScience Centre\, Address: Plot no 1 RY – 15 Railway Quarter\, Karachi.\, 75530\, Pakistan
END:VEVENT
BEGIN:VEVENT
DTSTART;TZID=Asia/Karachi:20230722T163000
DTEND;TZID=Asia/Karachi:20230722T170000
DTSTAMP:20260420T180359
CREATED:20230626T070217Z
LAST-MODIFIED:20230626T070217Z
UID:6130-1690043400-1690045200@www.magnifiscience.org
SUMMARY:Density Check
DESCRIPTION:To demonstrate the varying densities of different plastic materials and learn the importance of recycling.\nLocation: Ground Floor
URL:https://www.magnifiscience.org/event/density-check-5/
LOCATION:TDF’s MagnifiScience Centre\, Address: Plot no 1 RY – 15 Railway Quarter\, Karachi.\, 75530\, Pakistan
END:VEVENT
BEGIN:VEVENT
DTSTART;TZID=Asia/Karachi:20230722T173000
DTEND;TZID=Asia/Karachi:20230722T180000
DTSTAMP:20260420T180359
CREATED:20230626T070437Z
LAST-MODIFIED:20230626T070437Z
UID:6132-1690047000-1690048800@www.magnifiscience.org
SUMMARY:Leakproof Bag
DESCRIPTION:Can you poke a hole in a bag full of water without losing even one drop? Learn the science behind this leakproof bag experiment.\nLocation: 2nd Floor
URL:https://www.magnifiscience.org/event/leakproof-bag-6/
LOCATION:TDF’s MagnifiScience Centre\, Address: Plot no 1 RY – 15 Railway Quarter\, Karachi.\, 75530\, Pakistan
END:VEVENT
BEGIN:VEVENT
DTSTART;TZID=Asia/Karachi:20230722T180000
DTEND;TZID=Asia/Karachi:20230722T183000
DTSTAMP:20260420T180359
CREATED:20230626T070636Z
LAST-MODIFIED:20230626T070636Z
UID:6134-1690048800-1690050600@www.magnifiscience.org
SUMMARY:Density Check
DESCRIPTION:To demonstrate the varying densities of different plastic materials and learn the importance of recycling.\nLocation: Ground Floor
URL:https://www.magnifiscience.org/event/density-check-6/
LOCATION:TDF’s MagnifiScience Centre\, Address: Plot no 1 RY – 15 Railway Quarter\, Karachi.\, 75530\, Pakistan
END:VEVENT
END:VCALENDAR