BEGIN:VCALENDAR
VERSION:2.0
PRODID:-//MagnifiScience - ECPv6.15.20//NONSGML v1.0//EN
CALSCALE:GREGORIAN
METHOD:PUBLISH
X-ORIGINAL-URL:https://www.magnifiscience.org
X-WR-CALDESC:Events for MagnifiScience
REFRESH-INTERVAL;VALUE=DURATION:PT1H
X-Robots-Tag:noindex
X-PUBLISHED-TTL:PT1H
BEGIN:VTIMEZONE
TZID:Asia/Karachi
BEGIN:STANDARD
TZOFFSETFROM:+0500
TZOFFSETTO:+0500
TZNAME:PKT
DTSTART:20220101T000000
END:STANDARD
END:VTIMEZONE
BEGIN:VEVENT
DTSTART;TZID=Asia/Karachi:20230723T133000
DTEND;TZID=Asia/Karachi:20230723T140000
DTSTAMP:20260420T180345
CREATED:20230626T070910Z
LAST-MODIFIED:20230626T070910Z
UID:6136-1690119000-1690120800@www.magnifiscience.org
SUMMARY:Leakproof Bag
DESCRIPTION:Can you poke a hole in a bag full of water without losing even one drop? Learn the science behind this leakproof bag experiment.\nLocation: 2nd Floor
URL:https://www.magnifiscience.org/event/leakproof-bag-7/
LOCATION:TDF’s MagnifiScience Centre\, Address: Plot no 1 RY – 15 Railway Quarter\, Karachi.\, 75530\, Pakistan
END:VEVENT
BEGIN:VEVENT
DTSTART;TZID=Asia/Karachi:20230723T140000
DTEND;TZID=Asia/Karachi:20230723T143000
DTSTAMP:20260420T180345
CREATED:20230626T071126Z
LAST-MODIFIED:20230626T071126Z
UID:6138-1690120800-1690122600@www.magnifiscience.org
SUMMARY:Density Check
DESCRIPTION:To demonstrate the varying densities of different plastic materials and learn the importance of recycling.\nLocation: 1st Floor
URL:https://www.magnifiscience.org/event/density-check-7/
LOCATION:TDF’s MagnifiScience Centre\, Address: Plot no 1 RY – 15 Railway Quarter\, Karachi.\, 75530\, Pakistan
END:VEVENT
BEGIN:VEVENT
DTSTART;TZID=Asia/Karachi:20230723T143000
DTEND;TZID=Asia/Karachi:20230723T150000
DTSTAMP:20260420T180345
CREATED:20230626T071457Z
LAST-MODIFIED:20230707T044542Z
UID:6140-1690122600-1690124400@www.magnifiscience.org
SUMMARY:STEM Workshop "Magic with Plastic"
DESCRIPTION:Investigating different designs and objects made of plastic that affect the chemical reaction in things.\nLocation: Jugaar Ghar
URL:https://www.magnifiscience.org/event/science-show-magic-with-plastic-2/
LOCATION:TDF’s MagnifiScience Centre\, Address: Plot no 1 RY – 15 Railway Quarter\, Karachi.\, 75530\, Pakistan
END:VEVENT
BEGIN:VEVENT
DTSTART;TZID=Asia/Karachi:20230723T151500
DTEND;TZID=Asia/Karachi:20230723T154500
DTSTAMP:20260420T180345
CREATED:20230626T071910Z
LAST-MODIFIED:20230706T063205Z
UID:6142-1690125300-1690127100@www.magnifiscience.org
SUMMARY:STEM Workshop "Recycling Magic"
DESCRIPTION:In this programme\, we will engage in a variety of activities using recycled materials to explore reactions. \nLocation: Jugaar Ghar
URL:https://www.magnifiscience.org/event/science-show-recycling-magic-4/
LOCATION:TDF’s MagnifiScience Centre\, Address: Plot no 1 RY – 15 Railway Quarter\, Karachi.\, 75530\, Pakistan
END:VEVENT
BEGIN:VEVENT
DTSTART;TZID=Asia/Karachi:20230723T160000
DTEND;TZID=Asia/Karachi:20230723T163000
DTSTAMP:20260420T180345
CREATED:20230627T055445Z
LAST-MODIFIED:20230627T114653Z
UID:6198-1690128000-1690129800@www.magnifiscience.org
SUMMARY:Bee Motel
DESCRIPTION:Give bees a home from upcycling plastics.\nLocation: Jugaar Ghar
URL:https://www.magnifiscience.org/event/bee-motel-7/
LOCATION:TDF’s MagnifiScience Centre\, Address: Plot no 1 RY – 15 Railway Quarter\, Karachi.\, 75530\, Pakistan
END:VEVENT
BEGIN:VEVENT
DTSTART;TZID=Asia/Karachi:20230723T163000
DTEND;TZID=Asia/Karachi:20230723T170000
DTSTAMP:20260420T180345
CREATED:20230703T060100Z
LAST-MODIFIED:20230703T060100Z
UID:6232-1690129800-1690131600@www.magnifiscience.org
SUMMARY:Layering Jello
DESCRIPTION:Learn about making Jello\, layering different colors and food safe plastics.\nLocation: Foodology
URL:https://www.magnifiscience.org/event/layering-jello-3/
LOCATION:TDF’s MagnifiScience Centre\, Address: Plot no 1 RY – 15 Railway Quarter\, Karachi.\, 75530\, Pakistan
END:VEVENT
BEGIN:VEVENT
DTSTART;TZID=Asia/Karachi:20230723T173000
DTEND;TZID=Asia/Karachi:20230723T180000
DTSTAMP:20260420T180345
CREATED:20230626T073025Z
LAST-MODIFIED:20230626T073025Z
UID:6148-1690133400-1690135200@www.magnifiscience.org
SUMMARY:Leakproof Bag
DESCRIPTION:Can you poke a hole in a bag full of water without losing even one drop? Learn the science behind this leakproof bag experiment. \nLocation: 2nd Floor
URL:https://www.magnifiscience.org/event/leakproof-bag-8/
LOCATION:TDF’s MagnifiScience Centre\, Address: Plot no 1 RY – 15 Railway Quarter\, Karachi.\, 75530\, Pakistan
END:VEVENT
BEGIN:VEVENT
DTSTART;TZID=Asia/Karachi:20230723T180000
DTEND;TZID=Asia/Karachi:20230723T183000
DTSTAMP:20260420T180345
CREATED:20230626T073344Z
LAST-MODIFIED:20230626T073344Z
UID:6150-1690135200-1690137000@www.magnifiscience.org
SUMMARY:Density Check
DESCRIPTION:To demonstrate the varying densities of different plastic materials and learn the importance of recycling \nLocation: 1st Floor
URL:https://www.magnifiscience.org/event/density-check-8/
LOCATION:TDF’s MagnifiScience Centre\, Address: Plot no 1 RY – 15 Railway Quarter\, Karachi.\, 75530\, Pakistan
END:VEVENT
END:VCALENDAR