BEGIN:VCALENDAR
VERSION:2.0
PRODID:-//MagnifiScience - ECPv6.15.20//NONSGML v1.0//EN
CALSCALE:GREGORIAN
METHOD:PUBLISH
X-WR-CALNAME:MagnifiScience
X-ORIGINAL-URL:https://www.magnifiscience.org
X-WR-CALDESC:Events for MagnifiScience
REFRESH-INTERVAL;VALUE=DURATION:PT1H
X-Robots-Tag:noindex
X-PUBLISHED-TTL:PT1H
BEGIN:VTIMEZONE
TZID:Asia/Karachi
BEGIN:STANDARD
TZOFFSETFROM:+0500
TZOFFSETTO:+0500
TZNAME:PKT
DTSTART:20220101T000000
END:STANDARD
END:VTIMEZONE
BEGIN:VEVENT
DTSTART;TZID=Asia/Karachi:20230806T130000
DTEND;TZID=Asia/Karachi:20230806T133000
DTSTAMP:20260422T154916
CREATED:20230803T044431Z
LAST-MODIFIED:20230803T044431Z
UID:6648-1691326800-1691328600@www.magnifiscience.org
SUMMARY:Color changing potion
DESCRIPTION:Learn how this simple experiment provides a visual and tangible representation of conversion of potential energy into kinetic energy through chemical reaction.
URL:https://www.magnifiscience.org/event/color-changing-potion-3/
LOCATION:TDF’s MagnifiScience Centre\, Address: Plot no 1 RY – 15 Railway Quarter\, Karachi.\, 75530\, Pakistan
END:VEVENT
BEGIN:VEVENT
DTSTART;TZID=Asia/Karachi:20230806T133000
DTEND;TZID=Asia/Karachi:20230806T140000
DTSTAMP:20260422T154916
CREATED:20230803T044727Z
LAST-MODIFIED:20230803T044727Z
UID:6651-1691328600-1691330400@www.magnifiscience.org
SUMMARY:Static Baloon
DESCRIPTION:Learn the science behind Static Electricity using a Balloon.
URL:https://www.magnifiscience.org/event/static-baloon-3/
LOCATION:TDF’s MagnifiScience Centre\, Address: Plot no 1 RY – 15 Railway Quarter\, Karachi.\, 75530\, Pakistan
END:VEVENT
BEGIN:VEVENT
DTSTART;TZID=Asia/Karachi:20230806T140000
DTEND;TZID=Asia/Karachi:20230806T143000
DTSTAMP:20260422T154916
CREATED:20230803T045025Z
LAST-MODIFIED:20230803T045025Z
UID:6653-1691330400-1691332200@www.magnifiscience.org
SUMMARY:"STEM Design Challenge  ""Keeping it HOT!"""
DESCRIPTION:In this session\, we will have a challenge to insulate a\nnormal bottle using everyday resources’. \nLocation: Jugaar Ghar
URL:https://www.magnifiscience.org/event/stem-design-challenge-keeping-it-hot-2/
LOCATION:TDF’s MagnifiScience Centre\, Address: Plot no 1 RY – 15 Railway Quarter\, Karachi.\, 75530\, Pakistan
END:VEVENT
BEGIN:VEVENT
DTSTART;TZID=Asia/Karachi:20230806T144500
DTEND;TZID=Asia/Karachi:20230806T151500
DTSTAMP:20260422T154916
CREATED:20230803T045347Z
LAST-MODIFIED:20230803T045347Z
UID:6655-1691333100-1691334900@www.magnifiscience.org
SUMMARY:Windy Wonders
DESCRIPTION:Learn how wind energy works by a DIY wind turbine model. \nLocation: Jugaar Ghar
URL:https://www.magnifiscience.org/event/windy-wonders/
LOCATION:TDF’s MagnifiScience Centre\, Address: Plot no 1 RY – 15 Railway Quarter\, Karachi.\, 75530\, Pakistan
END:VEVENT
BEGIN:VEVENT
DTSTART;TZID=Asia/Karachi:20230806T153000
DTEND;TZID=Asia/Karachi:20230806T160000
DTSTAMP:20260422T154916
CREATED:20230803T045559Z
LAST-MODIFIED:20230803T045559Z
UID:6657-1691335800-1691337600@www.magnifiscience.org
SUMMARY:"Renewable Water  Heater"
DESCRIPTION:Solar energy and how it can be used to heat water.\nLocation: Neem Tree
URL:https://www.magnifiscience.org/event/renewable-water-heater/
LOCATION:TDF’s MagnifiScience Centre\, Address: Plot no 1 RY – 15 Railway Quarter\, Karachi.\, 75530\, Pakistan
END:VEVENT
BEGIN:VEVENT
DTSTART;TZID=Asia/Karachi:20230806T161500
DTEND;TZID=Asia/Karachi:20230806T164500
DTSTAMP:20260422T154916
CREATED:20230803T045835Z
LAST-MODIFIED:20230803T045835Z
UID:6659-1691338500-1691340300@www.magnifiscience.org
SUMMARY:"STEM Workshop  ""Forces in Action"""
DESCRIPTION:Forces around us. We will learn about the conversion of energies from one form to another. \nLocation: Jugaar Ghar
URL:https://www.magnifiscience.org/event/stem-workshop-forces-in-action-2/
LOCATION:TDF’s MagnifiScience Centre\, Address: Plot no 1 RY – 15 Railway Quarter\, Karachi.\, 75530\, Pakistan
END:VEVENT
BEGIN:VEVENT
DTSTART;TZID=Asia/Karachi:20230806T170000
DTEND;TZID=Asia/Karachi:20230806T180000
DTSTAMP:20260422T154916
CREATED:20230803T050114Z
LAST-MODIFIED:20230803T050114Z
UID:6661-1691341200-1691344800@www.magnifiscience.org
SUMMARY:Solar Oven Smores
DESCRIPTION:Make a solar oven and use the solar energy to melt\nthe chocolate and marshmallows to make smores.  \nLocation: Foodology
URL:https://www.magnifiscience.org/event/solar-oven-smores/
LOCATION:TDF’s MagnifiScience Centre\, Address: Plot no 1 RY – 15 Railway Quarter\, Karachi.\, 75530\, Pakistan
END:VEVENT
BEGIN:VEVENT
DTSTART;TZID=Asia/Karachi:20230806T180000
DTEND;TZID=Asia/Karachi:20230806T183000
DTSTAMP:20260422T154916
CREATED:20230803T050315Z
LAST-MODIFIED:20230803T050315Z
UID:6663-1691344800-1691346600@www.magnifiscience.org
SUMMARY:Color changing potion
DESCRIPTION:Learn how this simple experiment provides a visual and tangible representation of convestion of potential energy into kinetic energy through chemical reaction.
URL:https://www.magnifiscience.org/event/color-changing-potion-4/
LOCATION:TDF’s MagnifiScience Centre\, Address: Plot no 1 RY – 15 Railway Quarter\, Karachi.\, 75530\, Pakistan
END:VEVENT
BEGIN:VEVENT
DTSTART;TZID=Asia/Karachi:20230806T183000
DTEND;TZID=Asia/Karachi:20230806T190000
DTSTAMP:20260422T154916
CREATED:20230803T050528Z
LAST-MODIFIED:20230803T050528Z
UID:6665-1691346600-1691348400@www.magnifiscience.org
SUMMARY:Static Balloon
DESCRIPTION:Learn the science behind Static Electricity using a Balloon.
URL:https://www.magnifiscience.org/event/static-balloon/
LOCATION:TDF’s MagnifiScience Centre\, Address: Plot no 1 RY – 15 Railway Quarter\, Karachi.\, 75530\, Pakistan
END:VEVENT
END:VCALENDAR